BEGIN:VCALENDAR
VERSION:2.0
PRODID:-//Wycliffe CE Primary School - ECPv6.15.20//NONSGML v1.0//EN
CALSCALE:GREGORIAN
METHOD:PUBLISH
X-ORIGINAL-URL:https://wycliffeprimary.org
X-WR-CALDESC:Events for Wycliffe CE Primary School
REFRESH-INTERVAL;VALUE=DURATION:PT1H
X-Robots-Tag:noindex
X-PUBLISHED-TTL:PT1H
BEGIN:VTIMEZONE
TZID:UTC
BEGIN:STANDARD
TZOFFSETFROM:+0000
TZOFFSETTO:+0000
TZNAME:UTC
DTSTART:20240101T000000
END:STANDARD
END:VTIMEZONE
BEGIN:VEVENT
DTSTART;TZID=UTC:20251203T093000
DTEND;TZID=UTC:20251203T103000
DTSTAMP:20260421T183729
CREATED:20251124T114646Z
LAST-MODIFIED:20251124T114659Z
UID:28960-1764754200-1764757800@wycliffeprimary.org
SUMMARY:R\, Y1 \, 1/2 & 2 NATIVITY in school.
DESCRIPTION:
URL:https://wycliffeprimary.org/event/r-y1-1-2-2-nativity-in-school/
END:VEVENT
END:VCALENDAR