BEGIN:VCALENDAR
VERSION:2.0
PRODID:-//Wycliffe CE Primary School - ECPv6.15.20//NONSGML v1.0//EN
CALSCALE:GREGORIAN
METHOD:PUBLISH
X-ORIGINAL-URL:https://wycliffeprimary.org
X-WR-CALDESC:Events for Wycliffe CE Primary School
REFRESH-INTERVAL;VALUE=DURATION:PT1H
X-Robots-Tag:noindex
X-PUBLISHED-TTL:PT1H
BEGIN:VTIMEZONE
TZID:UTC
BEGIN:STANDARD
TZOFFSETFROM:+0000
TZOFFSETTO:+0000
TZNAME:UTC
DTSTART:20240101T000000
END:STANDARD
END:VTIMEZONE
BEGIN:VEVENT
DTSTART;VALUE=DATE:20251210
DTEND;VALUE=DATE:20251211
DTSTAMP:20260421T143558
CREATED:20251007T114845Z
LAST-MODIFIED:20251007T114845Z
UID:28828-1765324800-1765411199@wycliffeprimary.org
SUMMARY:Christmas Dinner & Jumper Day!
DESCRIPTION:
URL:https://wycliffeprimary.org/event/christmas-dinner-jumper-day/
END:VEVENT
BEGIN:VEVENT
DTSTART;TZID=UTC:20251210T143000
DTEND;TZID=UTC:20251210T153000
DTSTAMP:20260421T143558
CREATED:20250716T135047Z
LAST-MODIFIED:20250716T135047Z
UID:28531-1765377000-1765380600@wycliffeprimary.org
SUMMARY:Y3 & 4 Carol Service in school.
DESCRIPTION:
URL:https://wycliffeprimary.org/event/y3-4-carol-service-in-school/
END:VEVENT
END:VCALENDAR