BEGIN:VCALENDAR
VERSION:2.0
PRODID:-//Wycliffe CE Primary School - ECPv6.15.20//NONSGML v1.0//EN
CALSCALE:GREGORIAN
METHOD:PUBLISH
X-WR-CALNAME:Wycliffe CE Primary School
X-ORIGINAL-URL:https://wycliffeprimary.org
X-WR-CALDESC:Events for Wycliffe CE Primary School
REFRESH-INTERVAL;VALUE=DURATION:PT1H
X-Robots-Tag:noindex
X-PUBLISHED-TTL:PT1H
BEGIN:VTIMEZONE
TZID:UTC
BEGIN:STANDARD
TZOFFSETFROM:+0000
TZOFFSETTO:+0000
TZNAME:UTC
DTSTART:20230101T000000
END:STANDARD
END:VTIMEZONE
BEGIN:VEVENT
DTSTART;TZID=UTC:20241024T133000
DTEND;TZID=UTC:20241024T143000
DTSTAMP:20260421T161927
CREATED:20240916T102148Z
LAST-MODIFIED:20240916T102148Z
UID:27371-1729776600-1729780200@wycliffeprimary.org
SUMMARY:Harvest Service for R\, Y1 & Y2 @ St. Paul's Church. Parents welcome.
DESCRIPTION:
URL:https://wycliffeprimary.org/event/harvest-service-for-r-y1-y2-st-pauls-church-parents-welcome/
END:VEVENT
BEGIN:VEVENT
DTSTART;TZID=UTC:20241024T093000
DTEND;TZID=UTC:20241024T103000
DTSTAMP:20260421T161927
CREATED:20240916T102046Z
LAST-MODIFIED:20240916T102046Z
UID:27369-1729762200-1729765800@wycliffeprimary.org
SUMMARY:Harvest Service for Y3\, 4\, 5 & 6 @ St. Paul's Church. Parents welcome.
DESCRIPTION:
URL:https://wycliffeprimary.org/event/harvest-service-for-y3-4-5-6-st-pauls-church-parents-welcome/
END:VEVENT
BEGIN:VEVENT
DTSTART;TZID=UTC:20241024T090000
DTEND;TZID=UTC:20241024T120000
DTSTAMP:20260421T161927
CREATED:20240916T101831Z
LAST-MODIFIED:20240916T101831Z
UID:27367-1729760400-1729771200@wycliffeprimary.org
SUMMARY:Flouride Varnish team in for Reception.
DESCRIPTION:Dear parent / legal guardian \nThe oral health improvement team will be visiting your child’s school to apply fluoride varnish on Thursday 24th October 2024. \nIf you have previously provided your consent\, your child is due their next fluoride varnish application. You only need to contact us if your child’s medical history has changed\, or if you do not want your child to have fluoride varnish in school. \nIf your child is in reception class and you would like your child to receive a fluoride application\, please complete\, and submit the e-form by clicking on the link. Can you please complete the form within 7 days. \n\nQR Code for Consent Form \nhttps://forms.office.com/e/Cpi0ufLKEU \nOnce you have enrolled on to the fluoride varnish programme you MUST inform us of any changes to your child’s medical history. If we do not hear from you\, we will apply fluoride varnish to your child’s teeth until they have had 2 applications or they have reached the age of 5 years. \n  \nPlease also refer to the frequently asked questions link below. \nIf you need to make us aware of any changes or require any further information\, please contact the team on: \nTelephone: 01274 259084 / 01274 259085 \nEmail: ohp@bdct.nhs.uk  \n\nQR Code for Frequently Asked Questions
URL:https://wycliffeprimary.org/event/flouride-varnish-team-in-for-reception/
END:VEVENT
BEGIN:VEVENT
DTSTART;TZID=UTC:20241023T130000
DTEND;TZID=UTC:20241023T190000
DTSTAMP:20260421T161927
CREATED:20240916T095734Z
LAST-MODIFIED:20240916T095734Z
UID:27365-1729688400-1729710000@wycliffeprimary.org
SUMMARY:Parents' Evening.
DESCRIPTION:
URL:https://wycliffeprimary.org/event/parents-evening-2/
END:VEVENT
BEGIN:VEVENT
DTSTART;TZID=UTC:20241021T151500
DTEND;TZID=UTC:20241021T160000
DTSTAMP:20260421T161927
CREATED:20240916T095456Z
LAST-MODIFIED:20241009T111439Z
UID:27361-1729523700-1729526400@wycliffeprimary.org
SUMMARY:Book Fair
DESCRIPTION:
URL:https://wycliffeprimary.org/event/book-fair-ks2-playground/
END:VEVENT
BEGIN:VEVENT
DTSTART;TZID=UTC:20241021T090000
DTEND;TZID=UTC:20241021T103000
DTSTAMP:20260421T161927
CREATED:20240918T125336Z
LAST-MODIFIED:20240918T125346Z
UID:27403-1729501200-1729506600@wycliffeprimary.org
SUMMARY:Y6 Height & Weight measurement.
DESCRIPTION:
URL:https://wycliffeprimary.org/event/y6-height-weight-check/
END:VEVENT
BEGIN:VEVENT
DTSTART;TZID=UTC:20241018T090000
DTEND;TZID=UTC:20241018T150000
DTSTAMP:20260421T161927
CREATED:20240916T095645Z
LAST-MODIFIED:20240916T095645Z
UID:27363-1729242000-1729263600@wycliffeprimary.org
SUMMARY:Y1 trip to Skipton Castle.
DESCRIPTION:Y1 TRIP – Skipton castle letter
URL:https://wycliffeprimary.org/event/y1-trip-to-skipton-castle/
END:VEVENT
BEGIN:VEVENT
DTSTART;TZID=UTC:20241017T090000
DTEND;TZID=UTC:20241017T093000
DTSTAMP:20260421T161927
CREATED:20241009T112009Z
LAST-MODIFIED:20241009T112009Z
UID:27566-1729155600-1729157400@wycliffeprimary.org
SUMMARY:Y1 Faith Presentation in school. Parents welcome to attend.
DESCRIPTION:
URL:https://wycliffeprimary.org/event/y1-faith-presentation-in-school-parents-welcome-to-attend/
END:VEVENT
BEGIN:VEVENT
DTSTART;VALUE=DATE:20241010
DTEND;VALUE=DATE:20241011
DTSTAMP:20260421T161927
CREATED:20241009T111634Z
LAST-MODIFIED:20241009T111634Z
UID:27563-1728518400-1728604799@wycliffeprimary.org
SUMMARY:Y2 Great Fire of London workshop.
DESCRIPTION:
URL:https://wycliffeprimary.org/event/y2-great-fire-of-london-workshop-2/
END:VEVENT
BEGIN:VEVENT
DTSTART;TZID=UTC:20241008T153000
DTEND;TZID=UTC:20241008T161500
DTSTAMP:20260421T161927
CREATED:20240916T095133Z
LAST-MODIFIED:20240916T095158Z
UID:27359-1728401400-1728404100@wycliffeprimary.org
SUMMARY:Spellings @ Wycliffe. Workshop for Y1-6 parents
DESCRIPTION:Mrs Brodrick will be leading a workshop to help you support your children with learning their spellings and accessing Spelling Frame. The workshop will take place in school. Should you need to bring your children along\, there will be a room available close by with a member of school staff to look after them. We will look at interesting strategies that you can use at home to make learning spellings more fun and effective! As well as this\, Mrs Brodrick will give you some rationale behind the importance of learning spellings. Finally\, we will take a closer look at Spelling Frame and how this can play a useful role in supporting your child to learn their spellings at home.
URL:https://wycliffeprimary.org/event/spellings-wycliffe-workshop-for-y1-6-parents/
END:VEVENT
BEGIN:VEVENT
DTSTART;TZID=UTC:20240926T090000
DTEND;TZID=UTC:20240926T120000
DTSTAMP:20260421T161927
CREATED:20240916T092330Z
LAST-MODIFIED:20240916T092330Z
UID:27357-1727341200-1727352000@wycliffeprimary.org
SUMMARY:Flu vaccination for all pupils.
DESCRIPTION:
URL:https://wycliffeprimary.org/event/flu-vaccination-for-all-pupils-2/
END:VEVENT
BEGIN:VEVENT
DTSTART;TZID=UTC:20240912T090000
DTEND;TZID=UTC:20240913T150000
DTSTAMP:20260421T161927
CREATED:20240719T102632Z
LAST-MODIFIED:20240904T074223Z
UID:27234-1726131600-1726239600@wycliffeprimary.org
SUMMARY:Y5 residential to High Adventure
DESCRIPTION:2024-initial-letter-incl.-acceptance-slip (2) \nParent info
URL:https://wycliffeprimary.org/event/y5-residential-to-high-adventure/
END:VEVENT
BEGIN:VEVENT
DTSTART;TZID=UTC:20240722T180000
DTEND;TZID=UTC:20240902T153000
DTSTAMP:20260421T161927
CREATED:20240610T090647Z
LAST-MODIFIED:20240610T090647Z
UID:27165-1721671200-1725291000@wycliffeprimary.org
SUMMARY:Summer Holidays!
DESCRIPTION:
URL:https://wycliffeprimary.org/event/summer-holidays/
END:VEVENT
BEGIN:VEVENT
DTSTART;TZID=UTC:20240717T140000
DTEND;TZID=UTC:20240717T144500
DTSTAMP:20260421T161927
CREATED:20240503T142156Z
LAST-MODIFIED:20240503T142156Z
UID:27003-1721224800-1721227500@wycliffeprimary.org
SUMMARY:Y6 Leavers' Service @ St. Paul's Church. Parents invited.
DESCRIPTION:
URL:https://wycliffeprimary.org/event/y6-leavers-service-st-pauls-church-parents-invited/
END:VEVENT
BEGIN:VEVENT
DTSTART;TZID=UTC:20240716T153000
DTEND;TZID=UTC:20240716T160000
DTSTAMP:20260421T161927
CREATED:20240703T113842Z
LAST-MODIFIED:20240703T113842Z
UID:27187-1721143800-1721145600@wycliffeprimary.org
SUMMARY:Current Y4 - High Adventure Parent Meeting
DESCRIPTION:
URL:https://wycliffeprimary.org/event/current-y4-high-adventure-parent-meeting/
END:VEVENT
BEGIN:VEVENT
DTSTART;TZID=UTC:20240716T131500
DTEND;TZID=UTC:20240716T141500
DTSTAMP:20260421T161927
CREATED:20240503T141859Z
LAST-MODIFIED:20240503T141859Z
UID:27001-1721135700-1721139300@wycliffeprimary.org
SUMMARY:Reception Graduation @ St. Paul's Church. Parents invited.
DESCRIPTION:
URL:https://wycliffeprimary.org/event/reception-graduation-st-pauls-church-parents-invited/
END:VEVENT
BEGIN:VEVENT
DTSTART;TZID=UTC:20240715T153000
DTEND;TZID=UTC:20240715T163000
DTSTAMP:20260421T161927
CREATED:20240503T141506Z
LAST-MODIFIED:20240503T141506Z
UID:26999-1721057400-1721061000@wycliffeprimary.org
SUMMARY:CAPOW: Summer Fair in the playground.
DESCRIPTION:
URL:https://wycliffeprimary.org/event/capow-summer-fair-in-the-playground/
END:VEVENT
BEGIN:VEVENT
DTSTART;TZID=UTC:20240712T150000
DTEND;TZID=UTC:20240712T153000
DTSTAMP:20260421T161927
CREATED:20240610T090542Z
LAST-MODIFIED:20240610T090542Z
UID:27163-1720796400-1720798200@wycliffeprimary.org
SUMMARY:End of year reports home.
DESCRIPTION:
URL:https://wycliffeprimary.org/event/end-of-year-reports-home/
END:VEVENT
BEGIN:VEVENT
DTSTART;TZID=UTC:20240709T173000
DTEND;TZID=UTC:20240709T183000
DTSTAMP:20260421T161927
CREATED:20240503T141210Z
LAST-MODIFIED:20240503T141210Z
UID:26997-1720546200-1720549800@wycliffeprimary.org
SUMMARY:Y6 Production.
DESCRIPTION:
URL:https://wycliffeprimary.org/event/y6-production-2/
END:VEVENT
BEGIN:VEVENT
DTSTART;TZID=UTC:20240709T133000
DTEND;TZID=UTC:20240709T143000
DTSTAMP:20260421T161927
CREATED:20240503T141120Z
LAST-MODIFIED:20240503T141120Z
UID:26995-1720531800-1720535400@wycliffeprimary.org
SUMMARY:Y6 Production.
DESCRIPTION:
URL:https://wycliffeprimary.org/event/y6-production/
END:VEVENT
BEGIN:VEVENT
DTSTART;VALUE=DATE:20240708
DTEND;VALUE=DATE:20240709
DTSTAMP:20260421T161927
CREATED:20240503T140609Z
LAST-MODIFIED:20240704T093112Z
UID:26993-1720396800-1720483199@wycliffeprimary.org
SUMMARY:Circus Day. Children to wear trainers.
DESCRIPTION:
URL:https://wycliffeprimary.org/event/circus-day/
END:VEVENT
BEGIN:VEVENT
DTSTART;TZID=UTC:20240704T093000
DTEND;TZID=UTC:20240704T120000
DTSTAMP:20260421T161927
CREATED:20240610T090455Z
LAST-MODIFIED:20240610T090455Z
UID:27161-1720085400-1720094400@wycliffeprimary.org
SUMMARY:Y6 Leavers' Service @ Bradford Cathedral.
DESCRIPTION:
URL:https://wycliffeprimary.org/event/y6-leavers-service-bradford-cathedral/
END:VEVENT
BEGIN:VEVENT
DTSTART;TZID=UTC:20240703T133000
DTEND;TZID=UTC:20240703T143000
DTSTAMP:20260421T161927
CREATED:20240514T111642Z
LAST-MODIFIED:20240514T111642Z
UID:27078-1720013400-1720017000@wycliffeprimary.org
SUMMARY:Stay & Play - New Reception.
DESCRIPTION:
URL:https://wycliffeprimary.org/event/stay-play-new-reception/
END:VEVENT
BEGIN:VEVENT
DTSTART;VALUE=DATE:20240703
DTEND;VALUE=DATE:20240704
DTSTAMP:20260421T161927
CREATED:20240503T140546Z
LAST-MODIFIED:20240503T140546Z
UID:26991-1719964800-1720051199@wycliffeprimary.org
SUMMARY:Move up Day
DESCRIPTION:
URL:https://wycliffeprimary.org/event/move-up-day/
END:VEVENT
BEGIN:VEVENT
DTSTART;TZID=UTC:20240702T154500
DTEND;TZID=UTC:20240702T164500
DTSTAMP:20260421T161927
CREATED:20240503T140515Z
LAST-MODIFIED:20240503T140515Z
UID:26989-1719935100-1719938700@wycliffeprimary.org
SUMMARY:New Reception - Transition picnic.
DESCRIPTION:
URL:https://wycliffeprimary.org/event/new-reception-transition-picnic/
END:VEVENT
BEGIN:VEVENT
DTSTART;TZID=UTC:20240627T090000
DTEND;TZID=UTC:20240627T150000
DTSTAMP:20260421T161927
CREATED:20240503T140322Z
LAST-MODIFIED:20240503T140322Z
UID:26987-1719478800-1719500400@wycliffeprimary.org
SUMMARY:Cherry class visit to St. Philips CE Primary ( Linking schools)
DESCRIPTION:
URL:https://wycliffeprimary.org/event/cherry-class-visit-to-st-philips-ce-primary-linking-schools/
END:VEVENT
BEGIN:VEVENT
DTSTART;TZID=UTC:20240627T090000
DTEND;TZID=UTC:20240627T093000
DTSTAMP:20260421T161927
CREATED:20240610T090252Z
LAST-MODIFIED:20240610T090259Z
UID:27159-1719478800-1719480600@wycliffeprimary.org
SUMMARY:Y2 Faith Presentation. Parents invited.
DESCRIPTION:
URL:https://wycliffeprimary.org/event/y2-faith-presentation-parents-invited/
END:VEVENT
BEGIN:VEVENT
DTSTART;TZID=UTC:20240625T170000
DTEND;TZID=UTC:20240625T180000
DTSTAMP:20260421T161927
CREATED:20240503T140213Z
LAST-MODIFIED:20240503T140213Z
UID:26985-1719334800-1719338400@wycliffeprimary.org
SUMMARY:Welcome meeting - New Reception parents.
DESCRIPTION:
URL:https://wycliffeprimary.org/event/welcome-meeting-new-reception-parents/
END:VEVENT
BEGIN:VEVENT
DTSTART;TZID=UTC:20240625T091500
DTEND;TZID=UTC:20240625T113000
DTSTAMP:20260421T161927
CREATED:20240503T135841Z
LAST-MODIFIED:20240618T081634Z
UID:26981-1719306900-1719315000@wycliffeprimary.org
SUMMARY:Sports Day (Y2-6) @ Roberts Park.
DESCRIPTION:
URL:https://wycliffeprimary.org/event/sports-day-y2-6-roberts-park/
END:VEVENT
BEGIN:VEVENT
DTSTART;VALUE=DATE:20240624
DTEND;VALUE=DATE:20240625
DTSTAMP:20260421T161927
CREATED:20240503T135554Z
LAST-MODIFIED:20240614T072948Z
UID:26977-1719187200-1719273599@wycliffeprimary.org
SUMMARY:Fun Day (Inflatables)
DESCRIPTION:
URL:https://wycliffeprimary.org/event/fun-day-inflatables/
END:VEVENT
END:VCALENDAR