BEGIN:VCALENDAR
VERSION:2.0
PRODID:-//Wycliffe CE Primary School - ECPv6.15.20//NONSGML v1.0//EN
CALSCALE:GREGORIAN
METHOD:PUBLISH
X-WR-CALNAME:Wycliffe CE Primary School
X-ORIGINAL-URL:https://wycliffeprimary.org
X-WR-CALDESC:Events for Wycliffe CE Primary School
REFRESH-INTERVAL;VALUE=DURATION:PT1H
X-Robots-Tag:noindex
X-PUBLISHED-TTL:PT1H
BEGIN:VTIMEZONE
TZID:UTC
BEGIN:STANDARD
TZOFFSETFROM:+0000
TZOFFSETTO:+0000
TZNAME:UTC
DTSTART:20240101T000000
END:STANDARD
END:VTIMEZONE
BEGIN:VEVENT
DTSTART;TZID=UTC:20251113T093000
DTEND;TZID=UTC:20251113T110000
DTSTAMP:20260421T232024
CREATED:20250716T133532Z
LAST-MODIFIED:20250716T133532Z
UID:28523-1763026200-1763031600@wycliffeprimary.org
SUMMARY:New Reception (Sept.2026) open morning.
DESCRIPTION:
URL:https://wycliffeprimary.org/event/new-reception-sept-2026-open-morning/
END:VEVENT
BEGIN:VEVENT
DTSTART;TZID=UTC:20251112T140000
DTEND;TZID=UTC:20251112T150000
DTSTAMP:20260421T232024
CREATED:20251007T114731Z
LAST-MODIFIED:20251007T114731Z
UID:28824-1762956000-1762959600@wycliffeprimary.org
SUMMARY:Book & Blanket - Open classroom
DESCRIPTION:Parents and carers are invited to visit their child’s classroom and enjoy reading together in a cosy environment. Bring a book and a blanket to make it extra comfortable!
URL:https://wycliffeprimary.org/event/book-blanket-open-classroom/
END:VEVENT
BEGIN:VEVENT
DTSTART;TZID=UTC:20251112T093000
DTEND;TZID=UTC:20251112T103000
DTSTAMP:20260421T232024
CREATED:20251007T140409Z
LAST-MODIFIED:20251007T140409Z
UID:28830-1762939800-1762943400@wycliffeprimary.org
SUMMARY:Reception Children’s Eye Test
DESCRIPTION:
URL:https://wycliffeprimary.org/event/reception-childrens-eye-test/
END:VEVENT
BEGIN:VEVENT
DTSTART;TZID=UTC:20251110T090000
DTEND;TZID=UTC:20251110T120000
DTSTAMP:20260421T232024
CREATED:20250716T133434Z
LAST-MODIFIED:20250716T133434Z
UID:28521-1762765200-1762776000@wycliffeprimary.org
SUMMARY:Individual & sibling photos
DESCRIPTION:
URL:https://wycliffeprimary.org/event/individual-sibling-photos/
END:VEVENT
BEGIN:VEVENT
DTSTART;TZID=UTC:20251106T093000
DTEND;TZID=UTC:20251106T103000
DTSTAMP:20260421T232024
CREATED:20250716T150614Z
LAST-MODIFIED:20250716T150614Z
UID:28570-1762421400-1762425000@wycliffeprimary.org
SUMMARY:Reception - flouride varnish
DESCRIPTION:
URL:https://wycliffeprimary.org/event/reception-flouride-varnish/
END:VEVENT
BEGIN:VEVENT
DTSTART;TZID=UTC:20251105T133000
DTEND;TZID=UTC:20251105T150000
DTSTAMP:20260421T232024
CREATED:20251105T130225Z
LAST-MODIFIED:20251105T142031Z
UID:28915-1762349400-1762354800@wycliffeprimary.org
SUMMARY:Whole school - treat afternoon Jack & the Beanstalk production.
DESCRIPTION:
URL:https://wycliffeprimary.org/event/whole-school-treat-afternoon-jack-the-beanstalk-production/
END:VEVENT
BEGIN:VEVENT
DTSTART;TZID=UTC:20251024T080000
DTEND;TZID=UTC:20251031T153000
DTSTAMP:20260421T232024
CREATED:20241007T092451Z
LAST-MODIFIED:20241007T092451Z
UID:27496-1761292800-1761924600@wycliffeprimary.org
SUMMARY:Half term
DESCRIPTION:
URL:https://wycliffeprimary.org/event/half-term/
END:VEVENT
BEGIN:VEVENT
DTSTART;TZID=UTC:20251023T153000
DTEND;TZID=UTC:20251023T174500
DTSTAMP:20260421T232024
CREATED:20251007T114205Z
LAST-MODIFIED:20251007T114627Z
UID:28820-1761233400-1761241500@wycliffeprimary.org
SUMMARY:Wycliffe Boogie!
DESCRIPTION:
URL:https://wycliffeprimary.org/event/wycliffe-boogie/
END:VEVENT
BEGIN:VEVENT
DTSTART;TZID=UTC:20251023T140000
DTEND;TZID=UTC:20251023T150000
DTSTAMP:20260421T232024
CREATED:20250716T132737Z
LAST-MODIFIED:20251020T080304Z
UID:28513-1761228000-1761231600@wycliffeprimary.org
SUMMARY:KS1 inc. Y3 Harvest service @ St. Paul's church.
DESCRIPTION:
URL:https://wycliffeprimary.org/event/ks1-harvest-service-st-pauls-church/
END:VEVENT
BEGIN:VEVENT
DTSTART;TZID=UTC:20251023T094500
DTEND;TZID=UTC:20251023T104500
DTSTAMP:20260421T232024
CREATED:20250716T132808Z
LAST-MODIFIED:20251020T093439Z
UID:28515-1761212700-1761216300@wycliffeprimary.org
SUMMARY:Year 4 - 6 Harvest service @ St. Paul's church.
DESCRIPTION:
URL:https://wycliffeprimary.org/event/ks2-harvest-service-st-pauls-church/
END:VEVENT
BEGIN:VEVENT
DTSTART;TZID=UTC:20251022T153000
DTEND;TZID=UTC:20251022T180000
DTSTAMP:20260421T232024
CREATED:20250716T133230Z
LAST-MODIFIED:20250716T133330Z
UID:28519-1761147000-1761156000@wycliffeprimary.org
SUMMARY:Parents' Evening
DESCRIPTION:
URL:https://wycliffeprimary.org/event/parents-evening-5/
END:VEVENT
BEGIN:VEVENT
DTSTART;TZID=UTC:20251021T153000
DTEND;TZID=UTC:20251021T180000
DTSTAMP:20260421T232024
CREATED:20250716T133154Z
LAST-MODIFIED:20250716T133154Z
UID:28517-1761060600-1761069600@wycliffeprimary.org
SUMMARY:Parents' Evening
DESCRIPTION:
URL:https://wycliffeprimary.org/event/parents-evening-4/
END:VEVENT
BEGIN:VEVENT
DTSTART;VALUE=DATE:20251014
DTEND;VALUE=DATE:20251015
DTSTAMP:20260421T232024
CREATED:20251007T114012Z
LAST-MODIFIED:20251007T114012Z
UID:28817-1760400000-1760486399@wycliffeprimary.org
SUMMARY:Y3 trip to Cliffe Castle
DESCRIPTION:
URL:https://wycliffeprimary.org/event/y3-trip-to-cliffe-castle/
END:VEVENT
BEGIN:VEVENT
DTSTART;TZID=UTC:20251009T164500
DTEND;TZID=UTC:20251009T180000
DTSTAMP:20260421T232024
CREATED:20251007T113929Z
LAST-MODIFIED:20251007T113929Z
UID:28815-1760028300-1760032800@wycliffeprimary.org
SUMMARY:Phonics workshop for parents in school.
DESCRIPTION:
URL:https://wycliffeprimary.org/event/phonics-workshop-for-parents-in-school-2/
END:VEVENT
BEGIN:VEVENT
DTSTART;TZID=UTC:20251009T090000
DTEND;TZID=UTC:20251009T100000
DTSTAMP:20260421T232024
CREATED:20251007T113858Z
LAST-MODIFIED:20251007T113858Z
UID:28813-1760000400-1760004000@wycliffeprimary.org
SUMMARY:Phonics workshop for parents in school.
DESCRIPTION:
URL:https://wycliffeprimary.org/event/phonics-workshop-for-parents-in-school/
END:VEVENT
BEGIN:VEVENT
DTSTART;TZID=UTC:20251006T090000
DTEND;TZID=UTC:20251006T110000
DTSTAMP:20260421T232024
CREATED:20250716T150442Z
LAST-MODIFIED:20250716T150442Z
UID:28568-1759741200-1759748400@wycliffeprimary.org
SUMMARY:R-Y6 Flu Vaccination
DESCRIPTION:
URL:https://wycliffeprimary.org/event/r-y6-flu-vaccination/
END:VEVENT
BEGIN:VEVENT
DTSTART;TZID=UTC:20250929T090000
DTEND;TZID=UTC:20251003T150000
DTSTAMP:20260421T232024
CREATED:20250716T132115Z
LAST-MODIFIED:20250716T132115Z
UID:28511-1759136400-1759503600@wycliffeprimary.org
SUMMARY:Year 6 Bikeability
DESCRIPTION:
URL:https://wycliffeprimary.org/event/year-6-bikeability/
END:VEVENT
BEGIN:VEVENT
DTSTART;TZID=UTC:20250915T090000
DTEND;TZID=UTC:20250916T150000
DTSTAMP:20260421T232024
CREATED:20250716T131511Z
LAST-MODIFIED:20250716T131511Z
UID:28509-1757926800-1758034800@wycliffeprimary.org
SUMMARY:Y5 Residential to High Adventure.
DESCRIPTION:
URL:https://wycliffeprimary.org/event/y5-residential-to-high-adventure-2/
END:VEVENT
BEGIN:VEVENT
DTSTART;TZID=UTC:20250908T144500
DTEND;TZID=UTC:20250908T154500
DTSTAMP:20260421T232024
CREATED:20250716T131408Z
LAST-MODIFIED:20250716T131408Z
UID:28507-1757342700-1757346300@wycliffeprimary.org
SUMMARY:Lost and Found project - parent drop in.
DESCRIPTION:
URL:https://wycliffeprimary.org/event/lost-and-found-project-parent-drop-in/
END:VEVENT
BEGIN:VEVENT
DTSTART;TZID=UTC:20250721T080000
DTEND;TZID=UTC:20250901T153000
DTSTAMP:20260421T232024
CREATED:20241007T092310Z
LAST-MODIFIED:20241007T092310Z
UID:27494-1753084800-1756740600@wycliffeprimary.org
SUMMARY:Summer Holidays
DESCRIPTION:
URL:https://wycliffeprimary.org/event/summer-holidays-2/
END:VEVENT
BEGIN:VEVENT
DTSTART;TZID=UTC:20250721T080000
DTEND;TZID=UTC:20250901T150000
DTSTAMP:20260421T232024
CREATED:20250502T133847Z
LAST-MODIFIED:20250502T133847Z
UID:28368-1753084800-1756738800@wycliffeprimary.org
SUMMARY:Summer Holidays!
DESCRIPTION:
URL:https://wycliffeprimary.org/event/summer-holidays-3/
END:VEVENT
BEGIN:VEVENT
DTSTART;TZID=UTC:20250716T133000
DTEND;TZID=UTC:20250716T143000
DTSTAMP:20260421T232024
CREATED:20250502T133757Z
LAST-MODIFIED:20250502T133757Z
UID:28366-1752672600-1752676200@wycliffeprimary.org
SUMMARY:Y6 Leavers service @ St. Paul's Church. Parent’s invited.
DESCRIPTION:
URL:https://wycliffeprimary.org/event/y6-leavers-service-st-pauls-church-parents-invited-2/
END:VEVENT
BEGIN:VEVENT
DTSTART;TZID=UTC:20250715T133000
DTEND;TZID=UTC:20250715T143000
DTSTAMP:20260421T232024
CREATED:20250502T133607Z
LAST-MODIFIED:20250502T133653Z
UID:28364-1752586200-1752589800@wycliffeprimary.org
SUMMARY:Reception Graduation at St. Paul’s Church. Parents welcome.
DESCRIPTION:
URL:https://wycliffeprimary.org/event/reception-graduation-at-st-pauls-church-parents-welcome/
END:VEVENT
BEGIN:VEVENT
DTSTART;TZID=UTC:20250714T151500
DTEND;TZID=UTC:20250714T171500
DTSTAMP:20260421T232024
CREATED:20250604T092207Z
LAST-MODIFIED:20250604T092207Z
UID:28424-1752506100-1752513300@wycliffeprimary.org
SUMMARY:Summer Fair - school playground.
DESCRIPTION:
URL:https://wycliffeprimary.org/event/summer-fair-school-playground/
END:VEVENT
BEGIN:VEVENT
DTSTART;TZID=UTC:20250709T154500
DTEND;TZID=UTC:20250709T164500
DTSTAMP:20260421T232024
CREATED:20250502T133518Z
LAST-MODIFIED:20250502T133526Z
UID:28362-1752075900-1752079500@wycliffeprimary.org
SUMMARY:NEW Reception - Transition picnic. Enter via Baker St gate
DESCRIPTION:
URL:https://wycliffeprimary.org/event/new-reception-transition-picnic-enter-via-baker-st-gate/
END:VEVENT
BEGIN:VEVENT
DTSTART;TZID=UTC:20250709T090000
DTEND;TZID=UTC:20250709T150000
DTSTAMP:20260421T232024
CREATED:20250627T101645Z
LAST-MODIFIED:20250627T102040Z
UID:28482-1752051600-1752073200@wycliffeprimary.org
SUMMARY:Y5 trip - Cliffe Castle
DESCRIPTION:
URL:https://wycliffeprimary.org/event/y5-trip-cliffe-castle/
END:VEVENT
BEGIN:VEVENT
DTSTART;TZID=UTC:20250708T170000
DTEND;TZID=UTC:20250708T180000
DTSTAMP:20260421T232024
CREATED:20250502T133415Z
LAST-MODIFIED:20250604T091558Z
UID:28360-1751994000-1751997600@wycliffeprimary.org
SUMMARY:Y6 Production - evening performance 2.
DESCRIPTION:
URL:https://wycliffeprimary.org/event/y6-production-evening-performance/
END:VEVENT
BEGIN:VEVENT
DTSTART;TZID=UTC:20250708T134500
DTEND;TZID=UTC:20250708T144500
DTSTAMP:20260421T232024
CREATED:20250502T133344Z
LAST-MODIFIED:20250502T133344Z
UID:28358-1751982300-1751985900@wycliffeprimary.org
SUMMARY:Y6 Production - afternoon performance.
DESCRIPTION:
URL:https://wycliffeprimary.org/event/y6-production-afternoon-performance/
END:VEVENT
BEGIN:VEVENT
DTSTART;TZID=UTC:20250707T170000
DTEND;TZID=UTC:20250707T180000
DTSTAMP:20260421T232024
CREATED:20250604T091648Z
LAST-MODIFIED:20250604T091712Z
UID:28419-1751907600-1751911200@wycliffeprimary.org
SUMMARY:Y6 Production - evening performance 1.
DESCRIPTION:
URL:https://wycliffeprimary.org/event/y6-production-evening-performance-2/
END:VEVENT
BEGIN:VEVENT
DTSTART;TZID=UTC:20250703T090000
DTEND;TZID=UTC:20250703T150000
DTSTAMP:20260421T232024
CREATED:20250502T133126Z
LAST-MODIFIED:20250502T133126Z
UID:28354-1751533200-1751554800@wycliffeprimary.org
SUMMARY:Y4 trip to Royal Armouries.
DESCRIPTION:On Thursday 3rd July\, Year 4 will be going on their final trip of the year to the Royal Armouries\, Leeds\, to take part in a ‘Ancient Greek: Myths and Legends’ workshop.\n\nOn the day there will be various activities for the children to join in with so they can really understand what it was like to be a Greek all those years ago. The activities include: a spartan drill\, revisiting the stories of Medusa and Perseus and a live demo of a typical day in Ancient Greece.\n\n\nWe will be travelling on a coach leaving school at 9am and returning for 3pm.\n\n\nWe are asking for a £10 voluntary contribution towards the trip which covers the cost of the coach\, the workshops and time spent in the museum afterwards. As always if not enough funds are raised the trip will not be able to take place. Please log into ParentPay to consent to your child attending this trip. If you are free school meals please indicate whether you would like school to provide a lunch.\n\nWe would appreciate any parent/carer volunteers who would be willing to support us with our trip – thank you!\n\nYours faithfully\n\nMrs Foster & Miss Thompson
URL:https://wycliffeprimary.org/event/y4-trip-to-royal-armouries/
END:VEVENT
END:VCALENDAR