BEGIN:VCALENDAR
VERSION:2.0
PRODID:-//Wycliffe CE Primary School - ECPv6.15.20//NONSGML v1.0//EN
CALSCALE:GREGORIAN
METHOD:PUBLISH
X-ORIGINAL-URL:https://wycliffeprimary.org
X-WR-CALDESC:Events for Wycliffe CE Primary School
REFRESH-INTERVAL;VALUE=DURATION:PT1H
X-Robots-Tag:noindex
X-PUBLISHED-TTL:PT1H
BEGIN:VTIMEZONE
TZID:UTC
BEGIN:STANDARD
TZOFFSETFROM:+0000
TZOFFSETTO:+0000
TZNAME:UTC
DTSTART:20250101T000000
END:STANDARD
END:VTIMEZONE
BEGIN:VEVENT
DTSTART;TZID=UTC:20260721T140000
DTEND;TZID=UTC:20260721T150000
DTSTAMP:20260422T022601
CREATED:20250716T145139Z
LAST-MODIFIED:20260413T110351Z
UID:28547-1784642400-1784646000@wycliffeprimary.org
SUMMARY:Y6 Leavers' service @ St. Paul's Church.
DESCRIPTION:
URL:https://wycliffeprimary.org/event/y6-leavers-service-st-pauls-church/
END:VEVENT
BEGIN:VEVENT
DTSTART;TZID=UTC:20260724T080000
DTEND;TZID=UTC:20260901T153000
DTSTAMP:20260422T022601
CREATED:20260413T120054Z
LAST-MODIFIED:20260413T120054Z
UID:29148-1784880000-1788276600@wycliffeprimary.org
SUMMARY:Summer Holidays!
DESCRIPTION:
URL:https://wycliffeprimary.org/event/summer-holidays-4/
END:VEVENT
END:VCALENDAR