BEGIN:VCALENDAR
VERSION:2.0
PRODID:-//Wycliffe CE Primary School - ECPv6.15.20//NONSGML v1.0//EN
CALSCALE:GREGORIAN
METHOD:PUBLISH
X-ORIGINAL-URL:https://wycliffeprimary.org
X-WR-CALDESC:Events for Wycliffe CE Primary School
REFRESH-INTERVAL;VALUE=DURATION:PT1H
X-Robots-Tag:noindex
X-PUBLISHED-TTL:PT1H
BEGIN:VTIMEZONE
TZID:UTC
BEGIN:STANDARD
TZOFFSETFROM:+0000
TZOFFSETTO:+0000
TZNAME:UTC
DTSTART:20240101T000000
END:STANDARD
END:VTIMEZONE
BEGIN:VEVENT
DTSTART;TZID=UTC:20251222T080000
DTEND;TZID=UTC:20260102T153000
DTSTAMP:20260421T120523
CREATED:20241007T094609Z
LAST-MODIFIED:20241007T094609Z
UID:27498-1766390400-1767367800@wycliffeprimary.org
SUMMARY:Christmas holidays
DESCRIPTION:
URL:https://wycliffeprimary.org/event/christmas-holidays/
END:VEVENT
BEGIN:VEVENT
DTSTART;TZID=UTC:20260107T090000
DTEND;TZID=UTC:20260109T150000
DTSTAMP:20260421T120523
CREATED:20250716T135728Z
LAST-MODIFIED:20250716T135946Z
UID:28535-1767776400-1767970800@wycliffeprimary.org
SUMMARY:Y6 Residential to Robinwood.
DESCRIPTION:
URL:https://wycliffeprimary.org/event/y6-residential-to-robinwood-2/
END:VEVENT
BEGIN:VEVENT
DTSTART;VALUE=DATE:20260123
DTEND;VALUE=DATE:20260124
DTSTAMP:20260421T120523
CREATED:20260115T141650Z
LAST-MODIFIED:20260115T141650Z
UID:29032-1769126400-1769212799@wycliffeprimary.org
SUMMARY:Y6 Viking Visitor
DESCRIPTION:
URL:https://wycliffeprimary.org/event/y6-viking-visitor-2/
END:VEVENT
BEGIN:VEVENT
DTSTART;VALUE=DATE:20260129
DTEND;VALUE=DATE:20260130
DTSTAMP:20260421T120523
CREATED:20260115T141744Z
LAST-MODIFIED:20260115T141744Z
UID:29035-1769644800-1769731199@wycliffeprimary.org
SUMMARY:KS1 trip to Bradford Industrial Museum
DESCRIPTION:
URL:https://wycliffeprimary.org/event/ks1-trip-to-bradford-industrial-museum/
END:VEVENT
BEGIN:VEVENT
DTSTART;TZID=UTC:20260129T090000
DTEND;TZID=UTC:20260129T230000
DTSTAMP:20260421T120523
CREATED:20250716T140031Z
LAST-MODIFIED:20250716T141410Z
UID:28537-1769677200-1769727600@wycliffeprimary.org
SUMMARY:Young Voices - Sheffield Arena
DESCRIPTION:
URL:https://wycliffeprimary.org/event/young-voices-sheffield-arena/
END:VEVENT
END:VCALENDAR