BEGIN:VCALENDAR
VERSION:2.0
PRODID:-//Wycliffe CE Primary School - ECPv6.15.20//NONSGML v1.0//EN
CALSCALE:GREGORIAN
METHOD:PUBLISH
X-WR-CALNAME:Wycliffe CE Primary School
X-ORIGINAL-URL:https://wycliffeprimary.org
X-WR-CALDESC:Events for Wycliffe CE Primary School
REFRESH-INTERVAL;VALUE=DURATION:PT1H
X-Robots-Tag:noindex
X-PUBLISHED-TTL:PT1H
BEGIN:VTIMEZONE
TZID:UTC
BEGIN:STANDARD
TZOFFSETFROM:+0000
TZOFFSETTO:+0000
TZNAME:UTC
DTSTART:20250101T000000
END:STANDARD
END:VTIMEZONE
BEGIN:VEVENT
DTSTART;VALUE=DATE:20260205
DTEND;VALUE=DATE:20260206
DTSTAMP:20260421T103723
CREATED:20260115T141815Z
LAST-MODIFIED:20260115T141815Z
UID:29037-1770249600-1770335999@wycliffeprimary.org
SUMMARY:Reception trip to The Deep.
DESCRIPTION:
URL:https://wycliffeprimary.org/event/reception-trip-to-the-deep-2/
END:VEVENT
BEGIN:VEVENT
DTSTART;TZID=UTC:20260210T090000
DTEND;TZID=UTC:20260210T130000
DTSTAMP:20260421T103723
CREATED:20260203T110017Z
LAST-MODIFIED:20260203T110017Z
UID:29075-1770714000-1770728400@wycliffeprimary.org
SUMMARY:Year 3 trip to the Gurdwara
DESCRIPTION:
URL:https://wycliffeprimary.org/event/year-3-trip-to-the-gurdwara/
END:VEVENT
BEGIN:VEVENT
DTSTART;TZID=UTC:20260216T080000
DTEND;TZID=UTC:20260220T153000
DTSTAMP:20260421T103723
CREATED:20241007T094822Z
LAST-MODIFIED:20241007T094822Z
UID:27501-1771228800-1771601400@wycliffeprimary.org
SUMMARY:Half term
DESCRIPTION:
URL:https://wycliffeprimary.org/event/half-term-2/
END:VEVENT
BEGIN:VEVENT
DTSTART;TZID=UTC:20260223T090000
DTEND;TZID=UTC:20260223T170000
DTSTAMP:20260421T103723
CREATED:20260203T110312Z
LAST-MODIFIED:20260203T110312Z
UID:29077-1771837200-1771866000@wycliffeprimary.org
SUMMARY:Reception parents' evening
DESCRIPTION:
URL:https://wycliffeprimary.org/event/reception-parents-evening/
END:VEVENT
BEGIN:VEVENT
DTSTART;TZID=UTC:20260223T151500
DTEND;TZID=UTC:20260223T161500
DTSTAMP:20260421T103723
CREATED:20260203T110430Z
LAST-MODIFIED:20260203T110430Z
UID:29079-1771859700-1771863300@wycliffeprimary.org
SUMMARY:Afterschool sports (Spring 2) commence
DESCRIPTION:
URL:https://wycliffeprimary.org/event/afterschool-sports-spring-2-commence/
END:VEVENT
BEGIN:VEVENT
DTSTART;TZID=UTC:20260224T080000
DTEND;TZID=UTC:20260224T170000
DTSTAMP:20260421T103723
CREATED:20260203T110736Z
LAST-MODIFIED:20260203T110841Z
UID:29081-1771920000-1771952400@wycliffeprimary.org
SUMMARY:KS1 Mad Science club starts (Every Tuesday - 5weeks)
DESCRIPTION:
URL:https://wycliffeprimary.org/event/ks1-mad-science-club-starts-every-tuesday-5weeks/
END:VEVENT
BEGIN:VEVENT
DTSTART;TZID=UTC:20260227T094500
DTEND;TZID=UTC:20260227T104500
DTSTAMP:20260421T103723
CREATED:20260203T111026Z
LAST-MODIFIED:20260203T111255Z
UID:29083-1772185500-1772189100@wycliffeprimary.org
SUMMARY:Year 5 swimming starts (Every Friday morning)
DESCRIPTION:
URL:https://wycliffeprimary.org/event/year-5-swimming-starts-every-friday-morning/
END:VEVENT
END:VCALENDAR